BEGIN:VCALENDAR
VERSION:2.0
PRODID:-//eventon.com NONSGML v1.0//EN
CALSCALE:GREGORIAN
METHOD:PUBLISH
BEGIN:VEVENT
UID:69e60422e936d
DTSTAMP:20260420T104658Z
DTSTART:20260818T080000Z
DTEND:20260818T180000Z
LOCATION:
SUMMARY:Skydearrangement i Vingsted for medlemmer.. (Copy)
DESCRIPTION:Kære medlemmer !Hjertelig velkommen til vores andet skydearran
 gement i 2026 i Vingsted den 18. augusthvor vi afholder vi den første medl
 emsskydning.Banerne er åbne kl. 15:00 til 20:00 DETALJERET PROGRAM FØLGER
  - MEN SÆT KRYDS I KALENDEREN ALLEREDE NU....\nhttps://scidenmark.com/even
 ts/skydearrangement-i-vingsted-for-medlemmer-copy/
URL:https://scidenmark.com/events/skydearrangement-i-vingsted-for-medlemmer-copy/
END:VEVENT
END:VCALENDAR