BEGIN:VCALENDAR
VERSION:2.0
PRODID:-//eventon.com NONSGML v1.0//EN
CALSCALE:GREGORIAN
METHOD:PUBLISH
BEGIN:VEVENT
UID:69e604fd66011
DTSTAMP:20260420T105037Z
DTSTART:20260623T080000Z
DTEND:20260623T180000Z
LOCATION:
SUMMARY:Skydearrangement i Vingsted for medlemmer..
DESCRIPTION:Kære medlemmer !Hjertelig velkommen til vores andet skydearran
 gement i 2026 i Vingsted den 23. junihvor vi afholder vi den første medlem
 sskydning.Banerne er åbne kl. 15:00 til 20:00 DETALJERET PROGRAM FØLGER -
  MEN SÆT KRYDS I KALENDEREN ALLEREDE NU....\nhttps://scidenmark.com/events
 /skydearrangement-i-vingsted-for-medlemmer-2/
URL:https://scidenmark.com/events/skydearrangement-i-vingsted-for-medlemmer-2/
END:VEVENT
END:VCALENDAR