BEGIN:VCALENDAR
VERSION:2.0
PRODID:-//eventon.com NONSGML v1.0//EN
CALSCALE:GREGORIAN
METHOD:PUBLISH
BEGIN:VEVENT
UID:69e859041aaa3
DTSTAMP:20260422T051340Z
DTSTART:20250405T080000Z
DTEND:20250405T150000Z
LOCATION:
SUMMARY:Skydearrangement i Vingsted
DESCRIPTION:Kære medlemmer !Hjertelig velkommen til vores første skydearr
 angement i 2025 i Vingsted den 5. april\,  hvor vi afholder vi den første 
 medlemsskydning.Banerne er åbne kl. 10:00 til 16:00 Indskrivning fra kl. 0
 9:00.Som medlem af SCI er du velkommen til at invitere en ven/jagtkammerat 
 med til arrangementet til kun DKK 100\, -Tilmelding[..]\nhttps://scidenmark
 .com/events/skydearrangement-i-vingsted/
URL:https://scidenmark.com/events/skydearrangement-i-vingsted/
END:VEVENT
END:VCALENDAR